BEGIN:VCALENDAR
VERSION:2.0
PRODID:-//Sanatan Samaj Australia - ECPv6.15.11//NONSGML v1.0//EN
CALSCALE:GREGORIAN
METHOD:PUBLISH
X-WR-CALNAME:Sanatan Samaj Australia
X-ORIGINAL-URL:https://sanatansamajaustralia.org
X-WR-CALDESC:Events for Sanatan Samaj Australia
REFRESH-INTERVAL;VALUE=DURATION:PT1H
X-Robots-Tag:noindex
X-PUBLISHED-TTL:PT1H
BEGIN:VTIMEZONE
TZID:UTC
BEGIN:STANDARD
TZOFFSETFROM:+0000
TZOFFSETTO:+0000
TZNAME:UTC
DTSTART:20230101T000000
END:STANDARD
END:VTIMEZONE
BEGIN:VEVENT
DTSTART;VALUE=DATE:20240413
DTEND;VALUE=DATE:20240415
DTSTAMP:20260425T102049
CREATED:20240405T073415Z
LAST-MODIFIED:20240405T095908Z
UID:10869-1712966400-1713139199@sanatansamajaustralia.org
SUMMARY:Nepalese New Year 2081
DESCRIPTION:
URL:https://sanatansamajaustralia.org/event/nepalese-new-year-2081/
LOCATION:Australia\, 1122 Potter Rd\, Antelope\, CA\, 32802\, United States
CATEGORIES:Nepali Festivals
ATTACH;FMTTYPE=image/jpeg:https://sanatansamajaustralia.org/wp-content/uploads/2023/03/bg-14-1.jpg
ORGANIZER;CN="SSA":MAILTO:info@sanatansamajaustralia.org
END:VEVENT
END:VCALENDAR